BEGIN:VCALENDAR
VERSION:2.0
PRODID:-//Aqualogistics - ECPv6.15.20//NONSGML v1.0//EN
CALSCALE:GREGORIAN
METHOD:PUBLISH
X-ORIGINAL-URL:https://aqualogistics.co.uk
X-WR-CALDESC:Events for Aqualogistics
REFRESH-INTERVAL;VALUE=DURATION:PT1H
X-Robots-Tag:noindex
X-PUBLISHED-TTL:PT1H
BEGIN:VTIMEZONE
TZID:Europe/London
BEGIN:DAYLIGHT
TZOFFSETFROM:+0000
TZOFFSETTO:+0100
TZNAME:BST
DTSTART:20240331T010000
END:DAYLIGHT
BEGIN:STANDARD
TZOFFSETFROM:+0100
TZOFFSETTO:+0000
TZNAME:GMT
DTSTART:20241027T010000
END:STANDARD
BEGIN:DAYLIGHT
TZOFFSETFROM:+0000
TZOFFSETTO:+0100
TZNAME:BST
DTSTART:20250330T010000
END:DAYLIGHT
BEGIN:STANDARD
TZOFFSETFROM:+0100
TZOFFSETTO:+0000
TZNAME:GMT
DTSTART:20251026T010000
END:STANDARD
BEGIN:DAYLIGHT
TZOFFSETFROM:+0000
TZOFFSETTO:+0100
TZNAME:BST
DTSTART:20260329T010000
END:DAYLIGHT
BEGIN:STANDARD
TZOFFSETFROM:+0100
TZOFFSETTO:+0000
TZNAME:GMT
DTSTART:20261025T010000
END:STANDARD
END:VTIMEZONE
BEGIN:VEVENT
DTSTART;VALUE=DATE:20251006
DTEND;VALUE=DATE:20251011
DTSTAMP:20260422T022940
CREATED:20250801T100207Z
LAST-MODIFIED:20250801T100859Z
UID:338817-1759708800-1760140799@aqualogistics.co.uk
SUMMARY:IDEST BUNDLE NO 4
DESCRIPTION:IDEST BUNDLE NO 4
URL:https://aqualogistics.co.uk/event/idest-bundle-no-4-3/
CATEGORIES:course bundle no 4
ATTACH;FMTTYPE=image/webp:https://aqualogistics.co.uk/wp-content/uploads/2024/09/rsw_370cg_true.webp
ORGANIZER;CN="howard":MAILTO:geoff@aqualogistics.co.uk
END:VEVENT
BEGIN:VEVENT
DTSTART;VALUE=DATE:20251008
DTEND;VALUE=DATE:20251013
DTSTAMP:20260422T022940
CREATED:20250731T135016Z
LAST-MODIFIED:20250731T135016Z
UID:338813-1759881600-1760313599@aqualogistics.co.uk
SUMMARY:IDEST BUNDLE NO 4
DESCRIPTION:IDEST BUNDLE NO 4
URL:https://aqualogistics.co.uk/event/idest-bundle-no-4-october/
CATEGORIES:course bundle no 4
ATTACH;FMTTYPE=image/webp:https://aqualogistics.co.uk/wp-content/uploads/2024/09/rsw_370cg_true.webp
END:VEVENT
BEGIN:VEVENT
DTSTART;VALUE=DATE:20251020
DTEND;VALUE=DATE:20251022
DTSTAMP:20260422T022940
CREATED:20250725T154827Z
LAST-MODIFIED:20250804T104011Z
UID:338790-1760918400-1761091199@aqualogistics.co.uk
SUMMARY:IDEST COURSE BUNDLE NO 2
DESCRIPTION:IDEST COURSE BUNDLE NO 2 /  VISUAL / PIAT/02 CLEANING COURSES
URL:https://aqualogistics.co.uk/event/idest-course-bundle-no-2/
CATEGORIES:IDEST BUNDLE NO 2
ATTACH;FMTTYPE=image/webp:https://aqualogistics.co.uk/wp-content/uploads/2024/09/rsw_370cg_true.webp
END:VEVENT
BEGIN:VEVENT
DTSTART;VALUE=DATE:20251028
DTEND;VALUE=DATE:20251029
DTSTAMP:20260422T022940
CREATED:20250725T105021Z
LAST-MODIFIED:20250801T101133Z
UID:338770-1761609600-1761695999@aqualogistics.co.uk
SUMMARY:IDEST CCC/ COMPOSITE COURSE
DESCRIPTION:IDEST CCC/COMPOSITE COURSE
URL:https://aqualogistics.co.uk/event/test/
LOCATION:Aqualogistics dive centre\, chester street\, stockport\, sk3 obr\, United Kingdom
CATEGORIES:ccc idest composite course
ATTACH;FMTTYPE=image/webp:https://aqualogistics.co.uk/wp-content/uploads/2024/09/rsw_370cg_true.webp
ORGANIZER;CN="howard":MAILTO:geoff@aqualogistics.co.uk
END:VEVENT
END:VCALENDAR