BEGIN:VCALENDAR
VERSION:2.0
PRODID:-//Aqualogistics - ECPv6.15.20//NONSGML v1.0//EN
CALSCALE:GREGORIAN
METHOD:PUBLISH
X-WR-CALNAME:Aqualogistics
X-ORIGINAL-URL:https://aqualogistics.co.uk
X-WR-CALDESC:Events for Aqualogistics
REFRESH-INTERVAL;VALUE=DURATION:PT1H
X-Robots-Tag:noindex
X-PUBLISHED-TTL:PT1H
BEGIN:VTIMEZONE
TZID:Europe/London
BEGIN:DAYLIGHT
TZOFFSETFROM:+0000
TZOFFSETTO:+0100
TZNAME:BST
DTSTART:20190331T010000
END:DAYLIGHT
BEGIN:STANDARD
TZOFFSETFROM:+0100
TZOFFSETTO:+0000
TZNAME:GMT
DTSTART:20191027T010000
END:STANDARD
BEGIN:DAYLIGHT
TZOFFSETFROM:+0000
TZOFFSETTO:+0100
TZNAME:BST
DTSTART:20200329T010000
END:DAYLIGHT
BEGIN:STANDARD
TZOFFSETFROM:+0100
TZOFFSETTO:+0000
TZNAME:GMT
DTSTART:20201025T010000
END:STANDARD
BEGIN:DAYLIGHT
TZOFFSETFROM:+0000
TZOFFSETTO:+0100
TZNAME:BST
DTSTART:20210328T010000
END:DAYLIGHT
BEGIN:STANDARD
TZOFFSETFROM:+0100
TZOFFSETTO:+0000
TZNAME:GMT
DTSTART:20211031T010000
END:STANDARD
END:VTIMEZONE
BEGIN:VEVENT
DTSTART;TZID=Europe/London:20200302T200000
DTEND;TZID=Europe/London:20200302T213000
DTSTAMP:20260421T165602
CREATED:20191212T153647Z
LAST-MODIFIED:20191212T153903Z
UID:334329-1583179200-1583184600@aqualogistics.co.uk
SUMMARY:Scuba rangers program
DESCRIPTION:Scuba Rangers is not just a diving course\, it can also be a long term activity if they want to become part of a Scuba Rangers Club! Children must be a minimum of 8 years old.This is run either over a weekend or monday evenings in our pool. All equipment is provided and certification and card is included in the cost. \n  \n  \nDuring the club sessions they learn about our environment\, get more diving experience and have a fun time together.
URL:https://aqualogistics.co.uk/event/334329/
LOCATION:right robinson collage\, M18 8RL
ORGANIZER;CN="howard":MAILTO:geoff@aqualogistics.co.uk
END:VEVENT
BEGIN:VEVENT
DTSTART;TZID=Europe/London:20200312T180000
DTEND;TZID=Europe/London:20200312T210000
DTSTAMP:20260421T165602
CREATED:20191212T152148Z
LAST-MODIFIED:20191212T152148Z
UID:334327-1584036000-1584046800@aqualogistics.co.uk
SUMMARY:DIgital underwater photography
DESCRIPTION:The DIGITAL UNDERWATER PHOTOGRAPHY Program can be learned in the pool/confined water or directly in the open water. This makes this a perfect “winter specialty” which can be done just before your diving holiday starts. \n\n2x Open Water Dives\nLearn Camera Functions\nKit Hire Included\nLearn How To Capture Perfect Shots\nLearn How To Edit Pictures\nCertification Card
URL:https://aqualogistics.co.uk/event/digital-underwater-photography/
LOCATION:Aqualogistics dive centre\, chester street\, stockport\, sk3 obr\, United Kingdom
ORGANIZER;CN="howard":MAILTO:geoff@aqualogistics.co.uk
END:VEVENT
BEGIN:VEVENT
DTSTART;TZID=Europe/London:20200326T180000
DTEND;TZID=Europe/London:20200326T210000
DTSTAMP:20260421T165602
CREATED:20191212T154315Z
LAST-MODIFIED:20200220T162659Z
UID:334333-1585245600-1585256400@aqualogistics.co.uk
SUMMARY:Nitrox speciality course
DESCRIPTION:Have you ever dreamed of having longer no-decompression limits to take pictures or explore a wreck? Did you ever want to be safer while diving concerning the potential risk of decompression sickness? Nitrox is the key. Due to the reduced fraction of nitrogen in your breathing gas\, your body will have less work and the desaturation times will be reduced. In your ENRICHED AIR NITROX Program you will learn all the necessary rules for planning dives with Nitrox and using Nitrox in a safe way. An important key point in the entire program is analysing your own cylinder prior to any Nitrox dive. “Nitrox for free” is a slogan in a lot of resorts. \n\n2x Optional Dives\nExtend Your Bottom Time\nImprove Your Safety Margin\n3x Hour Classroom\nCourse Materials Included\nCertification Card
URL:https://aqualogistics.co.uk/event/nitrox-speciality-course-2/
LOCATION:Aqualogistics dive centre\, chester street\, stockport\, sk3 obr\, United Kingdom
ORGANIZER;CN="howard":MAILTO:geoff@aqualogistics.co.uk
END:VEVENT
BEGIN:VEVENT
DTSTART;TZID=Europe/London:20200330T080000
DTEND;TZID=Europe/London:20200330T170000
DTSTAMP:20260421T165602
CREATED:20191212T160452Z
LAST-MODIFIED:20191212T160452Z
UID:334341-1585555200-1585587600@aqualogistics.co.uk
SUMMARY:Openwater course/dry suit course
DESCRIPTION:OPEN WATER DIVER\nBecoming an SSI Open Water Diver is the best way to start your scuba adventure as it is recognised around the world. \nWith personalised training from Aqualogistics\, we will take the time to ensure you are truly comfortable under water and have the skills and equipment knowledge you need to enjoy scuba diving. \nAs a general overview\, an Open Water Diver course consists of 3 parts: Academic Learning\, Pool Training and Open Water Sessions. \nACADEMIC LEARNING\nThe SSI Training Materials and Online Training program are designed so that you can learn the theory and knowledge parts of the programme at your own pace and when it is convenient for you. You can complete the academic tests online when you sign up for SSI’s Online Training program\, and then attend review sessions with us. \nPOOL TRAINING\nFor your pool and open water training your instructor will fit you to your scuba equipment so you will become comfortable in your “second skin”. All of our pool training takes place at our local baths and here we take you through the basics of scuba diving so you are fully confident when you move into open water training. \nOPEN WATER SESSIONS\nYou will complete at least 4 open water dives and have the chance to experience everything you learned in the pool hands-on. After successful completion of your open water training dives you will become a Certified Diver. The SSI Open Water Diver certification is recognised worldwide so you can enjoy diving not just in the UK but around the world. \nWhen you’re ready to expand your skills you can continue your training with our Advanced Training courses. \n\n\n\n\nWatch the SSI Scuba Diving Training video to find out more…\n\n\n\n\n\n\n\n\n\nWHAT IS INCLUDED\n\nAll scuba equipment hire\nAir fills\nTraining documentation & certificate\nSSI digital online training materials\n\n\n\n\n\n\n\nCOURSE PRICES*\nOpen Water Diver with Drysuit Orientation – £400\nOpen Water Diver with Drysuit Speciality – £495 \nTel  :0161 480 5745 \n*Terms & Conditions Apply. Please contact us for details. \n\n\nRegister Now
URL:https://aqualogistics.co.uk/event/openwater-course-dry-suit-course/
LOCATION:Aqualogistics dive centre\, chester street\, stockport\, sk3 obr\, United Kingdom
ORGANIZER;CN="howard":MAILTO:geoff@aqualogistics.co.uk
END:VEVENT
END:VCALENDAR