BEGIN:VCALENDAR
VERSION:2.0
PRODID:-//Aqualogistics - ECPv6.15.20//NONSGML v1.0//EN
CALSCALE:GREGORIAN
METHOD:PUBLISH
X-WR-CALNAME:Aqualogistics
X-ORIGINAL-URL:https://aqualogistics.co.uk
X-WR-CALDESC:Events for Aqualogistics
REFRESH-INTERVAL;VALUE=DURATION:PT1H
X-Robots-Tag:noindex
X-PUBLISHED-TTL:PT1H
BEGIN:VTIMEZONE
TZID:Europe/London
BEGIN:DAYLIGHT
TZOFFSETFROM:+0000
TZOFFSETTO:+0100
TZNAME:BST
DTSTART:20180325T010000
END:DAYLIGHT
BEGIN:STANDARD
TZOFFSETFROM:+0100
TZOFFSETTO:+0000
TZNAME:GMT
DTSTART:20181028T010000
END:STANDARD
BEGIN:DAYLIGHT
TZOFFSETFROM:+0000
TZOFFSETTO:+0100
TZNAME:BST
DTSTART:20190331T010000
END:DAYLIGHT
BEGIN:STANDARD
TZOFFSETFROM:+0100
TZOFFSETTO:+0000
TZNAME:GMT
DTSTART:20191027T010000
END:STANDARD
BEGIN:DAYLIGHT
TZOFFSETFROM:+0000
TZOFFSETTO:+0100
TZNAME:BST
DTSTART:20200329T010000
END:DAYLIGHT
BEGIN:STANDARD
TZOFFSETFROM:+0100
TZOFFSETTO:+0000
TZNAME:GMT
DTSTART:20201025T010000
END:STANDARD
END:VTIMEZONE
BEGIN:VEVENT
DTSTART;TZID=Europe/London:20191201T090000
DTEND;TZID=Europe/London:20191201T170000
DTSTAMP:20260421T122532
CREATED:20191108T151430Z
LAST-MODIFIED:20200220T163002Z
UID:333448-1575190800-1575219600@aqualogistics.co.uk
SUMMARY:Perfect bouyancy course
DESCRIPTION:If there is one skill that will benefit your diving the most it is probably having great buoyancy control. Every diver wants to be a “good diver” and mastering Perfect Buoyancy is the best way to start. \nImproving your buoyancy control skills is one of the first things we recommend for new divers. Every diver who wants to improve their diving skills and at the same time wants to perform active environmental protection should take the SSI PERFECT BUOYANCY course. \nNearly every diver who wants to dive on great spots on holiday is requested to do a Check-Dive and buoyancy control is one of the essential skills that has to be performed. Poor control is likely to lead to damage to the reef or area where you are diving so it is done to make sure you can dive under good control of your fins and position in the water. \nThe destruction and harm caused by divers with weak buoyancy skills is having an impact on reefs worldwide. Additionally\, perfect buoyancy control is a prerequisite for nearly all Specialty Courses.
URL:https://aqualogistics.co.uk/event/perfect-bouyancy-course/
LOCATION:Aqualogistics dive centre\, chester street\, stockport\, sk3 obr\, United Kingdom
ORGANIZER;CN="howard":MAILTO:geoff@aqualogistics.co.uk
END:VEVENT
BEGIN:VEVENT
DTSTART;TZID=Europe/London:20191202T200000
DTEND;TZID=Europe/London:20191202T213000
DTSTAMP:20260421T122532
CREATED:20191108T152306Z
LAST-MODIFIED:20191108T152306Z
UID:333453-1575316800-1575322200@aqualogistics.co.uk
SUMMARY:Trydive
DESCRIPTION:TRY SCUBA DIVING\nScuba Diving is much easier than you think and opens up the undersea world for you to explore. With an abundance of wrecks and marine life surrounding the UK\, you are in the perfect location to enjoy great diving. Whether you’re interested in taking up an new challenge\, looking for a new hobby\, or just want to make some like minded friends\, scuba diving offers a great experience. \nTo truly enjoy your first underwater scuba diving experience\, you need an instructor that you can trust. We work in association with Scuba Schools International (SSI)\, which is one of the largest and most trusted training agencies in the world today. Your SSI Dive Instructor will teach you everything you need to know and under their guidance\, you will learn the skills you need to enjoy diving.
URL:https://aqualogistics.co.uk/event/trydive-2/
LOCATION:right robinson collage\, M18 8RL
ORGANIZER;CN="howard":MAILTO:geoff@aqualogistics.co.uk
END:VEVENT
BEGIN:VEVENT
DTSTART;TZID=Europe/London:20191202T200000
DTEND;TZID=Europe/London:20191202T213000
DTSTAMP:20260421T122532
CREATED:20191108T155621Z
LAST-MODIFIED:20191108T155621Z
UID:333461-1575316800-1575322200@aqualogistics.co.uk
SUMMARY:Christmas special trydive DEAL  !!!!!!!
DESCRIPTION:Get the one you love\, a try dive in our heated pool for a special Christmas present !!!!!!! \nBUY one trydive get the second free !!!!!!!!  valid untill febuary 2020 WOW ! \n\nThe SSI Try Scuba program is your introduction to the underwater world. This entry-level program gives you the opportunity to experience the underwater world\, in a confined water setting. You will earn the SSI Try Scuba recognition rating. \n\n 
URL:https://aqualogistics.co.uk/event/christmas-special-trydive-deal/
LOCATION:right robinson collage\, M18 8RL
ORGANIZER;CN="howard":MAILTO:geoff@aqualogistics.co.uk
END:VEVENT
BEGIN:VEVENT
DTSTART;TZID=Europe/London:20191205T060000
DTEND;TZID=Europe/London:20191205T210000
DTSTAMP:20260421T122532
CREATED:20191108T153400Z
LAST-MODIFIED:20191108T153400Z
UID:333457-1575525600-1575579600@aqualogistics.co.uk
SUMMARY:REACT RIGHT PROGRAM \,first aid\, cpr\, and primary stabilisation techniques
DESCRIPTION:DESCRIPTION\n\nReact Right \, emergency training program\, consisting of the following basic components: Primary Assessment\, First Aid & CPR Skills\, Primary Stabilization Techniques\, and includes two optional components: Oxygen Administration in Diving Emergencies and Automated External Defibrilation Basics. Students who complete this program earn the React Right specialty certification.
URL:https://aqualogistics.co.uk/event/react-right-program-first-aid-cpr-and-primary-stabilisation-techniques/
LOCATION:Aqualogistics dive centre\, chester street\, stockport\, sk3 obr\, United Kingdom
ORGANIZER;CN="howard":MAILTO:geoff@aqualogistics.co.uk
END:VEVENT
BEGIN:VEVENT
DTSTART;VALUE=DATE:20191215
DTEND;VALUE=DATE:20191216
DTSTAMP:20260421T122532
CREATED:20191108T151912Z
LAST-MODIFIED:20191108T151912Z
UID:333451-1576368000-1576454399@aqualogistics.co.uk
SUMMARY:Stress and rescue course
DESCRIPTION:Diving is a sport and is great fun but like skiing or climbing there are also potential dangers involved and it is important you train for unexpected emergencies. \nStress is a major contributor to rescue situations and diving accidents. The SSI Diver Stress and Rescue course you will teach you about accident prevention and how to handle problem situations if they occur during a dive. \nThe programme is all about avoiding\, recognising and solving problems both on the surface and underwater. \nThe course typically takes between two and four days during which you will participate in academic and in-water sessions in the pool and in the open water. As a prerequisite for certification you need to have a valid CPR\, First Aid & Oxygen Provider certificate. \nWe use our training pool in Stockport and then a sheltered local open water site for the training programme which includes the following elements: \nCOURSE CONTENT\n\nWhat Is Stress?\nStress In Diving:Causes And Prevention\nDetecting And Dealing With Stress\nAccident Management\nSkills Needed To Deal With Panic And Rescues\nConditions That Complicate Rescues\n\nTRAINING SESSIONS\nClassroom training takes place in our Stockport training facility and the open water dives will be carried out at a local diving centre\, typically a quarry such as Capernwray.
URL:https://aqualogistics.co.uk/event/stress-and-rescue-course/
LOCATION:Aqualogistics dive centre\, chester street\, stockport\, sk3 obr\, United Kingdom
ORGANIZER;CN="howard":MAILTO:geoff@aqualogistics.co.uk
END:VEVENT
END:VCALENDAR