BEGIN:VCALENDAR
VERSION:2.0
PRODID:-//Aqualogistics - ECPv6.15.20//NONSGML v1.0//EN
CALSCALE:GREGORIAN
METHOD:PUBLISH
X-WR-CALNAME:Aqualogistics
X-ORIGINAL-URL:https://aqualogistics.co.uk
X-WR-CALDESC:Events for Aqualogistics
REFRESH-INTERVAL;VALUE=DURATION:PT1H
X-Robots-Tag:noindex
X-PUBLISHED-TTL:PT1H
BEGIN:VTIMEZONE
TZID:Europe/London
BEGIN:DAYLIGHT
TZOFFSETFROM:+0000
TZOFFSETTO:+0100
TZNAME:BST
DTSTART:20240331T010000
END:DAYLIGHT
BEGIN:STANDARD
TZOFFSETFROM:+0100
TZOFFSETTO:+0000
TZNAME:GMT
DTSTART:20241027T010000
END:STANDARD
BEGIN:DAYLIGHT
TZOFFSETFROM:+0000
TZOFFSETTO:+0100
TZNAME:BST
DTSTART:20250330T010000
END:DAYLIGHT
BEGIN:STANDARD
TZOFFSETFROM:+0100
TZOFFSETTO:+0000
TZNAME:GMT
DTSTART:20251026T010000
END:STANDARD
BEGIN:DAYLIGHT
TZOFFSETFROM:+0000
TZOFFSETTO:+0100
TZNAME:BST
DTSTART:20260329T010000
END:DAYLIGHT
BEGIN:STANDARD
TZOFFSETFROM:+0100
TZOFFSETTO:+0000
TZNAME:GMT
DTSTART:20261025T010000
END:STANDARD
BEGIN:DAYLIGHT
TZOFFSETFROM:+0000
TZOFFSETTO:+0100
TZNAME:BST
DTSTART:20270328T010000
END:DAYLIGHT
BEGIN:STANDARD
TZOFFSETFROM:+0100
TZOFFSETTO:+0000
TZNAME:GMT
DTSTART:20271031T010000
END:STANDARD
END:VTIMEZONE
BEGIN:VEVENT
DTSTART;VALUE=DATE:20251028
DTEND;VALUE=DATE:20251029
DTSTAMP:20260422T225947
CREATED:20250725T105021Z
LAST-MODIFIED:20250801T101133Z
UID:338770-1761609600-1761695999@aqualogistics.co.uk
SUMMARY:IDEST CCC/ COMPOSITE COURSE
DESCRIPTION:IDEST CCC/COMPOSITE COURSE
URL:https://aqualogistics.co.uk/event/test/
LOCATION:Aqualogistics dive centre\, chester street\, stockport\, sk3 obr\, United Kingdom
CATEGORIES:ccc idest composite course
ATTACH;FMTTYPE=image/webp:https://aqualogistics.co.uk/wp-content/uploads/2024/09/rsw_370cg_true.webp
ORGANIZER;CN="howard":MAILTO:geoff@aqualogistics.co.uk
END:VEVENT
BEGIN:VEVENT
DTSTART;VALUE=DATE:20251110
DTEND;VALUE=DATE:20251115
DTSTAMP:20260422T225947
CREATED:20250801T100344Z
LAST-MODIFIED:20250801T100344Z
UID:338816-1762732800-1763164799@aqualogistics.co.uk
SUMMARY:IDEST BUNDLE NO 4
DESCRIPTION:IDEST BUNDLE NO 4
URL:https://aqualogistics.co.uk/event/idest-bundle-no-4-4/
CATEGORIES:course bundle no 4
ATTACH;FMTTYPE=image/webp:https://aqualogistics.co.uk/wp-content/uploads/2024/09/rsw_370cg_true.webp
END:VEVENT
BEGIN:VEVENT
DTSTART;VALUE=DATE:20251117
DTEND;VALUE=DATE:20251119
DTSTAMP:20260422T225947
CREATED:20251103T152226Z
LAST-MODIFIED:20251103T153921Z
UID:340656-1763337600-1763510399@aqualogistics.co.uk
SUMMARY:IDEST COURSE BUNDLE NO 2
DESCRIPTION:
URL:https://aqualogistics.co.uk/event/idest-generic-regulator-course-7/
LOCATION:Aqualogistics dive centre\, chester street\, stockport\, sk3 obr\, United Kingdom
CATEGORIES:IDEST BUNDLE NO 2
ORGANIZER;CN="howard":MAILTO:geoff@aqualogistics.co.uk
END:VEVENT
BEGIN:VEVENT
DTSTART;VALUE=DATE:20251124
DTEND;VALUE=DATE:20251126
DTSTAMP:20260422T225947
CREATED:20250801T100455Z
LAST-MODIFIED:20250801T100455Z
UID:338825-1763942400-1764115199@aqualogistics.co.uk
SUMMARY:IDEST COURSE BUNDLE NO 2
DESCRIPTION:IDEST COURSE BUNDLE NO 2 /  VISUAL / PIAT/02 CLEANING COURSES
URL:https://aqualogistics.co.uk/event/idest-course-bundle-no-2-2/
CATEGORIES:IDEST BUNDLE NO 2
ATTACH;FMTTYPE=image/webp:https://aqualogistics.co.uk/wp-content/uploads/2024/09/rsw_370cg_true.webp
END:VEVENT
BEGIN:VEVENT
DTSTART;VALUE=DATE:20251209
DTEND;VALUE=DATE:20251212
DTSTAMP:20260422T225947
CREATED:20250804T103442Z
LAST-MODIFIED:20250804T103442Z
UID:338826-1765238400-1765497599@aqualogistics.co.uk
SUMMARY:IDEST COURSE BUNDLE NO 2
DESCRIPTION:IDEST COURSE BUNDLE NO 2 /  VISUAL / PIAT/02 CLEANING COURSES
URL:https://aqualogistics.co.uk/event/idest-course-bundle-no-2-3/
CATEGORIES:IDEST BUNDLE NO 2
ATTACH;FMTTYPE=image/webp:https://aqualogistics.co.uk/wp-content/uploads/2024/09/rsw_370cg_true.webp
ORGANIZER;CN="howard":MAILTO:geoff@aqualogistics.co.uk
END:VEVENT
BEGIN:VEVENT
DTSTART;VALUE=DATE:20251215
DTEND;VALUE=DATE:20251216
DTSTAMP:20260422T225947
CREATED:20251120T133535Z
LAST-MODIFIED:20251120T133535Z
UID:340725-1765756800-1765843199@aqualogistics.co.uk
SUMMARY:idest generic regulator course
DESCRIPTION:
URL:https://aqualogistics.co.uk/event/idest-generic-regulator-course-8/
LOCATION:Aqualogistics dive centre\, chester street\, stockport\, sk3 obr\, United Kingdom
CATEGORIES:IDEST GENERIC REGULATOR COURSE
ORGANIZER;CN="howard":MAILTO:geoff@aqualogistics.co.uk
END:VEVENT
BEGIN:VEVENT
DTSTART;TZID=Europe/London:20260105T090000
DTEND;TZID=Europe/London:20260105T170000
DTSTAMP:20260422T225947
CREATED:20251218T161408Z
LAST-MODIFIED:20251218T161408Z
UID:341191-1767603600-1767632400@aqualogistics.co.uk
SUMMARY:Idest IMCA COURSE
DESCRIPTION:
URL:https://aqualogistics.co.uk/event/idest-imca-course/
LOCATION:Aqualogistics dive centre\, chester street\, stockport\, sk3 obr\, United Kingdom
CATEGORIES:imca course
ORGANIZER;CN="howard":MAILTO:geoff@aqualogistics.co.uk
END:VEVENT
BEGIN:VEVENT
DTSTART;VALUE=DATE:20260112
DTEND;VALUE=DATE:20260115
DTSTAMP:20260422T225947
CREATED:20251126T133119Z
LAST-MODIFIED:20251126T133119Z
UID:340778-1768176000-1768435199@aqualogistics.co.uk
SUMMARY:Idest course bundle no 2 / visual / piat/ 02 cleaning courses
DESCRIPTION:
URL:https://aqualogistics.co.uk/event/idest-course-bundle-no-2-visual-piat-02-cleaning-courses/
LOCATION:Aqualogistics dive centre\, chester street\, stockport\, sk3 obr\, United Kingdom
CATEGORIES:IDEST BUNDLE NO 2
ORGANIZER;CN="howard":MAILTO:geoff@aqualogistics.co.uk
END:VEVENT
BEGIN:VEVENT
DTSTART;VALUE=DATE:20260114
DTEND;VALUE=DATE:20260115
DTSTAMP:20260422T225947
CREATED:20251126T133648Z
LAST-MODIFIED:20251126T133648Z
UID:340780-1768348800-1768435199@aqualogistics.co.uk
SUMMARY:Idest composite course ccc
DESCRIPTION:
URL:https://aqualogistics.co.uk/event/idest-composite-course-ccc/
LOCATION:Aqualogistics dive centre\, chester street\, stockport\, sk3 obr\, United Kingdom
CATEGORIES:ccc idest composite course
ORGANIZER;CN="howard":MAILTO:geoff@aqualogistics.co.uk
END:VEVENT
BEGIN:VEVENT
DTSTART;VALUE=DATE:20260119
DTEND;VALUE=DATE:20260120
DTSTAMP:20260422T225947
CREATED:20251126T134540Z
LAST-MODIFIED:20251126T134540Z
UID:340784-1768780800-1768867199@aqualogistics.co.uk
SUMMARY:Idest generic regulator course
DESCRIPTION:
URL:https://aqualogistics.co.uk/event/idest-generic-regulator-course-9/
LOCATION:Aqualogistics dive centre\, chester street\, stockport\, sk3 obr\, United Kingdom
CATEGORIES:IDEST GENERIC REGULATOR COURSE
END:VEVENT
BEGIN:VEVENT
DTSTART;TZID=Europe/London:20260119T090000
DTEND;TZID=Europe/London:20260120T170000
DTSTAMP:20260422T225947
CREATED:20251218T160850Z
LAST-MODIFIED:20251218T160850Z
UID:341187-1768813200-1768928400@aqualogistics.co.uk
SUMMARY:Idest visual and piat and 02 cleaning course
DESCRIPTION:
URL:https://aqualogistics.co.uk/event/idest-visual-and-piat-and-02-cleaning-course/
LOCATION:Aqualogistics dive centre\, chester street\, stockport\, sk3 obr\, United Kingdom
CATEGORIES:IDEST BUNDLE NO 2
ORGANIZER;CN="howard":MAILTO:geoff@aqualogistics.co.uk
END:VEVENT
BEGIN:VEVENT
DTSTART;VALUE=DATE:20260120
DTEND;VALUE=DATE:20260121
DTSTAMP:20260422T225947
CREATED:20251209T121052Z
LAST-MODIFIED:20251209T123345Z
UID:341043-1768867200-1768953599@aqualogistics.co.uk
SUMMARY:Idest generic regulator course
DESCRIPTION:
URL:https://aqualogistics.co.uk/event/idest-generic-regulator-course-11/
LOCATION:Aqualogistics dive centre\, chester street\, stockport\, sk3 obr\, United Kingdom
CATEGORIES:IDEST GENERIC REGULATOR COURSE
END:VEVENT
BEGIN:VEVENT
DTSTART;TZID=Europe/London:20260121T093000
DTEND;TZID=Europe/London:20260121T170000
DTSTAMP:20260422T225947
CREATED:20251218T161054Z
LAST-MODIFIED:20251218T161054Z
UID:341189-1768987800-1769014800@aqualogistics.co.uk
SUMMARY:Idest generic regulator course
DESCRIPTION:
URL:https://aqualogistics.co.uk/event/idest-generic-regulator-course-12/
LOCATION:Aqualogistics dive centre\, chester street\, stockport\, sk3 obr\, United Kingdom
CATEGORIES:IDEST GENERIC REGULATOR COURSE
ORGANIZER;CN="howard":MAILTO:geoff@aqualogistics.co.uk
END:VEVENT
BEGIN:VEVENT
DTSTART;VALUE=DATE:20260126
DTEND;VALUE=DATE:20260128
DTSTAMP:20260422T225947
CREATED:20251126T134202Z
LAST-MODIFIED:20251126T134202Z
UID:340782-1769385600-1769558399@aqualogistics.co.uk
SUMMARY:idest course bundle no 2 / visual / piat /  02 cleaning courses
DESCRIPTION:
URL:https://aqualogistics.co.uk/event/idest-course-bundle-no-2-visual-piat-02-cleaning-courses-2/
LOCATION:Aqualogistics dive centre\, chester street\, stockport\, sk3 obr\, United Kingdom
CATEGORIES:IDEST BUNDLE NO 2
ORGANIZER;CN="howard":MAILTO:geoff@aqualogistics.co.uk
END:VEVENT
BEGIN:VEVENT
DTSTART;VALUE=DATE:20260202
DTEND;VALUE=DATE:20260206
DTSTAMP:20260422T225947
CREATED:20251126T135703Z
LAST-MODIFIED:20251126T135703Z
UID:340789-1769990400-1770335999@aqualogistics.co.uk
SUMMARY:IDEST course bundle no 4 /  tech insp -visual pt 1  and piat pt2 \,plus imca and composite ccc\, also 02 cleaning
DESCRIPTION:
URL:https://aqualogistics.co.uk/event/idest-course-bundle-no-4-tech-insp-visual-pt-1-and-piat-pt2-plus-imca-and-composite-ccc-also-02-cleaning/
LOCATION:Aqualogistics dive centre\, chester street\, stockport\, sk3 obr\, United Kingdom
CATEGORIES:course bundle no 4
ORGANIZER;CN="howard":MAILTO:geoff@aqualogistics.co.uk
END:VEVENT
BEGIN:VEVENT
DTSTART;VALUE=DATE:20260216
DTEND;VALUE=DATE:20260217
DTSTAMP:20260422T225947
CREATED:20260206T092244Z
LAST-MODIFIED:20260206T092244Z
UID:341291-1771200000-1771286399@aqualogistics.co.uk
SUMMARY:Idest generic regulator course
DESCRIPTION:
URL:https://aqualogistics.co.uk/event/idest-generic-regulator-course-13/
LOCATION:Aqualogistics dive centre\, chester street\, stockport\, sk3 obr\, United Kingdom
CATEGORIES:IDEST GENERIC REGULATOR COURSE
END:VEVENT
BEGIN:VEVENT
DTSTART;TZID=Europe/London:20260216T080000
DTEND;TZID=Europe/London:20260217T170000
DTSTAMP:20260422T225947
CREATED:20251126T140147Z
LAST-MODIFIED:20251126T140147Z
UID:340792-1771228800-1771347600@aqualogistics.co.uk
SUMMARY:IDEST course bundle no 5\,  Tech inspection  visual pt1 - piat  pt2  and composite ccc
DESCRIPTION:
URL:https://aqualogistics.co.uk/event/idest-course-bundle-no-5-tech-inspection-visual-pt1-piat-pt2-and-composite-ccc/
LOCATION:Aqualogistics dive centre\, chester street\, stockport\, sk3 obr\, United Kingdom
CATEGORIES:IDEST BUNDLE NO 5
ORGANIZER;CN="howard":MAILTO:geoff@aqualogistics.co.uk
END:VEVENT
BEGIN:VEVENT
DTSTART;TZID=Europe/London:20260302T090000
DTEND;TZID=Europe/London:20260303T170000
DTSTAMP:20260422T225947
CREATED:20260206T094830Z
LAST-MODIFIED:20260206T094830Z
UID:341305-1772442000-1772557200@aqualogistics.co.uk
SUMMARY:Idest course bundle no 2
DESCRIPTION:
URL:https://aqualogistics.co.uk/event/idest-course-bundle-no-2-5/
LOCATION:Aqualogistics dive centre\, chester street\, stockport\, sk3 obr\, United Kingdom
CATEGORIES:IDEST BUNDLE NO 2
ORGANIZER;CN="howard":MAILTO:geoff@aqualogistics.co.uk
END:VEVENT
BEGIN:VEVENT
DTSTART;VALUE=DATE:20260309
DTEND;VALUE=DATE:20260311
DTSTAMP:20260422T225947
CREATED:20251126T140936Z
LAST-MODIFIED:20251126T141701Z
UID:340797-1773014400-1773187199@aqualogistics.co.uk
SUMMARY:Idest course bundle no 2
DESCRIPTION:
URL:https://aqualogistics.co.uk/event/idest-course-bundle-no2/
LOCATION:Aqualogistics dive centre\, chester street\, stockport\, sk3 obr\, United Kingdom
CATEGORIES:IDEST BUNDLE NO 2
ORGANIZER;CN="howard":MAILTO:geoff@aqualogistics.co.uk
END:VEVENT
BEGIN:VEVENT
DTSTART;VALUE=DATE:20260323
DTEND;VALUE=DATE:20260324
DTSTAMP:20260422T225947
CREATED:20251126T140533Z
LAST-MODIFIED:20251126T140714Z
UID:340794-1774224000-1774310399@aqualogistics.co.uk
SUMMARY:Idest generic regulator course
DESCRIPTION:
URL:https://aqualogistics.co.uk/event/idest-generic-regulator-course-10/
LOCATION:Aqualogistics dive centre\, chester street\, stockport\, sk3 obr\, United Kingdom
CATEGORIES:IDEST GENERIC REGULATOR COURSE
END:VEVENT
BEGIN:VEVENT
DTSTART;VALUE=DATE:20260407
DTEND;VALUE=DATE:20260409
DTSTAMP:20260422T225947
CREATED:20260121T142718Z
LAST-MODIFIED:20260121T144141Z
UID:341265-1775520000-1775692799@aqualogistics.co.uk
SUMMARY:Idest course bundle no 2
DESCRIPTION:
URL:https://aqualogistics.co.uk/event/idest-course-bundle-no2-2/
LOCATION:Aqualogistics dive centre\, chester street\, stockport\, sk3 obr\, United Kingdom
CATEGORIES:IDEST BUNDLE NO 2
ORGANIZER;CN="howard":MAILTO:geoff@aqualogistics.co.uk
END:VEVENT
BEGIN:VEVENT
DTSTART;TZID=Europe/London:20260407T090000
DTEND;TZID=Europe/London:20260410T170000
DTSTAMP:20260422T225947
CREATED:20260323T154430Z
LAST-MODIFIED:20260323T154430Z
UID:341319-1775552400-1775840400@aqualogistics.co.uk
SUMMARY:Idest course bundle no 4
DESCRIPTION:
URL:https://aqualogistics.co.uk/event/idest-course-bundle-no-4/
LOCATION:Aqualogistics dive centre\, chester street\, stockport\, sk3 obr\, United Kingdom
CATEGORIES:course bundle no 4
ORGANIZER;CN="howard":MAILTO:geoff@aqualogistics.co.uk
END:VEVENT
BEGIN:VEVENT
DTSTART;VALUE=DATE:20260413
DTEND;VALUE=DATE:20260415
DTSTAMP:20260422T225947
CREATED:20260206T093522Z
LAST-MODIFIED:20260206T093522Z
UID:341297-1776038400-1776211199@aqualogistics.co.uk
SUMMARY:Idest course bundle no 2
DESCRIPTION:
URL:https://aqualogistics.co.uk/event/idest-course-bundle-no-2-4/
LOCATION:Aqualogistics dive centre\, chester street\, stockport\, sk3 obr\, United Kingdom
CATEGORIES:IDEST BUNDLE NO 2
ORGANIZER;CN="howard":MAILTO:geoff@aqualogistics.co.uk
END:VEVENT
BEGIN:VEVENT
DTSTART;VALUE=DATE:20260420
DTEND;VALUE=DATE:20260424
DTSTAMP:20260422T225947
CREATED:20260206T093704Z
LAST-MODIFIED:20260206T094428Z
UID:341299-1776643200-1776988799@aqualogistics.co.uk
SUMMARY:Idest generic regulator course
DESCRIPTION:
URL:https://aqualogistics.co.uk/event/idest-generic-regulator-course-14/
LOCATION:Aqualogistics dive centre\, chester street\, stockport\, sk3 obr\, United Kingdom
CATEGORIES:IDEST GENERIC REGULATOR COURSE
ORGANIZER;CN="howard":MAILTO:geoff@aqualogistics.co.uk
END:VEVENT
BEGIN:VEVENT
DTSTART;TZID=Europe/London:20260420T090000
DTEND;TZID=Europe/London:20260423T170000
DTSTAMP:20260422T225947
CREATED:20260323T154945Z
LAST-MODIFIED:20260323T154945Z
UID:341323-1776675600-1776963600@aqualogistics.co.uk
SUMMARY:Idest course bundle no 4
DESCRIPTION:
URL:https://aqualogistics.co.uk/event/idest-course-bundle-no-4-2/
LOCATION:Aqualogistics dive centre\, chester street\, stockport\, sk3 obr\, United Kingdom
CATEGORIES:course bundle no 4
ORGANIZER;CN="howard":MAILTO:geoff@aqualogistics.co.uk
END:VEVENT
BEGIN:VEVENT
DTSTART;TZID=Europe/London:20260504T090000
DTEND;TZID=Europe/London:20260505T170000
DTSTAMP:20260422T225947
CREATED:20260323T154757Z
LAST-MODIFIED:20260323T154757Z
UID:341321-1777885200-1778000400@aqualogistics.co.uk
SUMMARY:Idest course bundle no 2
DESCRIPTION:
URL:https://aqualogistics.co.uk/event/idest-course-bundle-no-2-6/
LOCATION:Aqualogistics dive centre\, chester street\, stockport\, sk3 obr\, United Kingdom
CATEGORIES:IDEST BUNDLE NO 2
ORGANIZER;CN="howard":MAILTO:geoff@aqualogistics.co.uk
END:VEVENT
END:VCALENDAR