BEGIN:VCALENDAR
VERSION:2.0
PRODID:-//Aqualogistics - ECPv6.15.20//NONSGML v1.0//EN
CALSCALE:GREGORIAN
METHOD:PUBLISH
X-WR-CALNAME:Aqualogistics
X-ORIGINAL-URL:https://aqualogistics.co.uk
X-WR-CALDESC:Events for Aqualogistics
REFRESH-INTERVAL;VALUE=DURATION:PT1H
X-Robots-Tag:noindex
X-PUBLISHED-TTL:PT1H
BEGIN:VTIMEZONE
TZID:Europe/London
BEGIN:DAYLIGHT
TZOFFSETFROM:+0000
TZOFFSETTO:+0100
TZNAME:BST
DTSTART:20240331T010000
END:DAYLIGHT
BEGIN:STANDARD
TZOFFSETFROM:+0100
TZOFFSETTO:+0000
TZNAME:GMT
DTSTART:20241027T010000
END:STANDARD
BEGIN:DAYLIGHT
TZOFFSETFROM:+0000
TZOFFSETTO:+0100
TZNAME:BST
DTSTART:20250330T010000
END:DAYLIGHT
BEGIN:STANDARD
TZOFFSETFROM:+0100
TZOFFSETTO:+0000
TZNAME:GMT
DTSTART:20251026T010000
END:STANDARD
BEGIN:DAYLIGHT
TZOFFSETFROM:+0000
TZOFFSETTO:+0100
TZNAME:BST
DTSTART:20260329T010000
END:DAYLIGHT
BEGIN:STANDARD
TZOFFSETFROM:+0100
TZOFFSETTO:+0000
TZNAME:GMT
DTSTART:20261025T010000
END:STANDARD
BEGIN:DAYLIGHT
TZOFFSETFROM:+0000
TZOFFSETTO:+0100
TZNAME:BST
DTSTART:20270328T010000
END:DAYLIGHT
BEGIN:STANDARD
TZOFFSETFROM:+0100
TZOFFSETTO:+0000
TZNAME:GMT
DTSTART:20271031T010000
END:STANDARD
END:VTIMEZONE
BEGIN:VEVENT
DTSTART;VALUE=DATE:20260323
DTEND;VALUE=DATE:20260324
DTSTAMP:20260421T123027
CREATED:20251126T140533Z
LAST-MODIFIED:20251126T140714Z
UID:340794-1774224000-1774310399@aqualogistics.co.uk
SUMMARY:Idest generic regulator course
DESCRIPTION:
URL:https://aqualogistics.co.uk/event/idest-generic-regulator-course-10/
LOCATION:Aqualogistics dive centre\, chester street\, stockport\, sk3 obr\, United Kingdom
CATEGORIES:IDEST GENERIC REGULATOR COURSE
END:VEVENT
BEGIN:VEVENT
DTSTART;VALUE=DATE:20260216
DTEND;VALUE=DATE:20260217
DTSTAMP:20260421T123027
CREATED:20260206T092244Z
LAST-MODIFIED:20260206T092244Z
UID:341291-1771200000-1771286399@aqualogistics.co.uk
SUMMARY:Idest generic regulator course
DESCRIPTION:
URL:https://aqualogistics.co.uk/event/idest-generic-regulator-course-13/
LOCATION:Aqualogistics dive centre\, chester street\, stockport\, sk3 obr\, United Kingdom
CATEGORIES:IDEST GENERIC REGULATOR COURSE
END:VEVENT
BEGIN:VEVENT
DTSTART;TZID=Europe/London:20260121T093000
DTEND;TZID=Europe/London:20260121T170000
DTSTAMP:20260421T123027
CREATED:20251218T161054Z
LAST-MODIFIED:20251218T161054Z
UID:341189-1768987800-1769014800@aqualogistics.co.uk
SUMMARY:Idest generic regulator course
DESCRIPTION:
URL:https://aqualogistics.co.uk/event/idest-generic-regulator-course-12/
LOCATION:Aqualogistics dive centre\, chester street\, stockport\, sk3 obr\, United Kingdom
CATEGORIES:IDEST GENERIC REGULATOR COURSE
ORGANIZER;CN="howard":MAILTO:geoff@aqualogistics.co.uk
END:VEVENT
BEGIN:VEVENT
DTSTART;VALUE=DATE:20260120
DTEND;VALUE=DATE:20260121
DTSTAMP:20260421T123027
CREATED:20251209T121052Z
LAST-MODIFIED:20251209T123345Z
UID:341043-1768867200-1768953599@aqualogistics.co.uk
SUMMARY:Idest generic regulator course
DESCRIPTION:
URL:https://aqualogistics.co.uk/event/idest-generic-regulator-course-11/
LOCATION:Aqualogistics dive centre\, chester street\, stockport\, sk3 obr\, United Kingdom
CATEGORIES:IDEST GENERIC REGULATOR COURSE
END:VEVENT
BEGIN:VEVENT
DTSTART;VALUE=DATE:20260119
DTEND;VALUE=DATE:20260120
DTSTAMP:20260421T123027
CREATED:20251126T134540Z
LAST-MODIFIED:20251126T134540Z
UID:340784-1768780800-1768867199@aqualogistics.co.uk
SUMMARY:Idest generic regulator course
DESCRIPTION:
URL:https://aqualogistics.co.uk/event/idest-generic-regulator-course-9/
LOCATION:Aqualogistics dive centre\, chester street\, stockport\, sk3 obr\, United Kingdom
CATEGORIES:IDEST GENERIC REGULATOR COURSE
END:VEVENT
BEGIN:VEVENT
DTSTART;VALUE=DATE:20251215
DTEND;VALUE=DATE:20251216
DTSTAMP:20260421T123027
CREATED:20251120T133535Z
LAST-MODIFIED:20251120T133535Z
UID:340725-1765756800-1765843199@aqualogistics.co.uk
SUMMARY:idest generic regulator course
DESCRIPTION:
URL:https://aqualogistics.co.uk/event/idest-generic-regulator-course-8/
LOCATION:Aqualogistics dive centre\, chester street\, stockport\, sk3 obr\, United Kingdom
CATEGORIES:IDEST GENERIC REGULATOR COURSE
ORGANIZER;CN="howard":MAILTO:geoff@aqualogistics.co.uk
END:VEVENT
BEGIN:VEVENT
DTSTART;TZID=Europe/London:20250929T093000
DTEND;TZID=Europe/London:20250929T170000
DTSTAMP:20260421T123027
CREATED:20250804T103221Z
LAST-MODIFIED:20250804T103703Z
UID:338844-1759138200-1759165200@aqualogistics.co.uk
SUMMARY:IDEST GENERIC  REGULATOR COURSE
DESCRIPTION:IDEST GENERIC REGULATOR COURSE
URL:https://aqualogistics.co.uk/event/idest-generic-regulator-course-5/
LOCATION:Aqualogistics dive centre\, chester street\, stockport\, sk3 obr\, United Kingdom
CATEGORIES:IDEST GENERIC REGULATOR COURSE
ATTACH;FMTTYPE=image/png:https://aqualogistics.co.uk/wp-content/uploads/2024/09/IDEST-Regulator-Servicing-Course.png
ORGANIZER;CN="howard":MAILTO:geoff@aqualogistics.co.uk
END:VEVENT
BEGIN:VEVENT
DTSTART;TZID=Europe/London:20250929T093000
DTEND;TZID=Europe/London:20250929T170000
DTSTAMP:20260421T123027
CREATED:20250801T101218Z
LAST-MODIFIED:20250801T101218Z
UID:338830-1759138200-1759165200@aqualogistics.co.uk
SUMMARY:IDEST GENERIC  REGULATOR COURSE
DESCRIPTION:IDEST GENERIC REGULATOR COURSE
URL:https://aqualogistics.co.uk/event/idest-generic-regulator-course-4/
LOCATION:Aqualogistics dive centre\, chester street\, stockport\, sk3 obr\, United Kingdom
CATEGORIES:IDEST GENERIC REGULATOR COURSE
ATTACH;FMTTYPE=image/png:https://aqualogistics.co.uk/wp-content/uploads/2024/09/IDEST-Regulator-Servicing-Course.png
ORGANIZER;CN="howard":MAILTO:geoff@aqualogistics.co.uk
END:VEVENT
BEGIN:VEVENT
DTSTART;TZID=Europe/London:20250908T093000
DTEND;TZID=Europe/London:20250908T170000
DTSTAMP:20260421T123027
CREATED:20250804T103758Z
LAST-MODIFIED:20250804T103758Z
UID:338848-1757323800-1757350800@aqualogistics.co.uk
SUMMARY:IDEST GENERIC  REGULATOR COURSE
DESCRIPTION:IDEST GENERIC REGULATOR COURSE
URL:https://aqualogistics.co.uk/event/idest-generic-regulator-course-6/
LOCATION:Aqualogistics dive centre\, chester street\, stockport\, sk3 obr\, United Kingdom
CATEGORIES:IDEST GENERIC REGULATOR COURSE
ATTACH;FMTTYPE=image/png:https://aqualogistics.co.uk/wp-content/uploads/2024/09/IDEST-Regulator-Servicing-Course.png
ORGANIZER;CN="howard":MAILTO:geoff@aqualogistics.co.uk
END:VEVENT
BEGIN:VEVENT
DTSTART;TZID=Europe/London:20250818T093000
DTEND;TZID=Europe/London:20250818T170000
DTSTAMP:20260421T123027
CREATED:20250725T115746Z
LAST-MODIFIED:20250801T095558Z
UID:338788-1755509400-1755536400@aqualogistics.co.uk
SUMMARY:IDEST GENERIC  REGULATOR COURSE
DESCRIPTION:IDEST GENERIC REGULATOR COURSE
URL:https://aqualogistics.co.uk/event/idest-generic-regulator-course/
LOCATION:Aqualogistics dive centre\, chester street\, stockport\, sk3 obr\, United Kingdom
CATEGORIES:IDEST GENERIC REGULATOR COURSE
ATTACH;FMTTYPE=image/png:https://aqualogistics.co.uk/wp-content/uploads/2024/09/IDEST-Regulator-Servicing-Course.png
END:VEVENT
BEGIN:VEVENT
DTSTART;TZID=Europe/London:20250801T093000
DTEND;TZID=Europe/London:20250801T170000
DTSTAMP:20260421T123027
CREATED:20250801T100749Z
LAST-MODIFIED:20250801T123538Z
UID:338831-1754040600-1754067600@aqualogistics.co.uk
SUMMARY:IDEST GENERIC  REGULATOR COURSE
DESCRIPTION:IDEST GENERIC REGULATOR COURSE
URL:https://aqualogistics.co.uk/event/idest-generic-regulator-course-3/
LOCATION:Aqualogistics dive centre\, chester street\, stockport\, sk3 obr\, United Kingdom
CATEGORIES:IDEST GENERIC REGULATOR COURSE
ATTACH;FMTTYPE=image/png:https://aqualogistics.co.uk/wp-content/uploads/2024/09/IDEST-Regulator-Servicing-Course.png
ORGANIZER;CN="howard":MAILTO:geoff@aqualogistics.co.uk
END:VEVENT
END:VCALENDAR