BEGIN:VCALENDAR
VERSION:2.0
PRODID:-//Aqualogistics - ECPv6.15.20//NONSGML v1.0//EN
CALSCALE:GREGORIAN
METHOD:PUBLISH
X-ORIGINAL-URL:https://aqualogistics.co.uk
X-WR-CALDESC:Events for Aqualogistics
REFRESH-INTERVAL;VALUE=DURATION:PT1H
X-Robots-Tag:noindex
X-PUBLISHED-TTL:PT1H
BEGIN:VTIMEZONE
TZID:Europe/London
BEGIN:DAYLIGHT
TZOFFSETFROM:+0000
TZOFFSETTO:+0100
TZNAME:BST
DTSTART:20190331T010000
END:DAYLIGHT
BEGIN:STANDARD
TZOFFSETFROM:+0100
TZOFFSETTO:+0000
TZNAME:GMT
DTSTART:20191027T010000
END:STANDARD
BEGIN:DAYLIGHT
TZOFFSETFROM:+0000
TZOFFSETTO:+0100
TZNAME:BST
DTSTART:20200329T010000
END:DAYLIGHT
BEGIN:STANDARD
TZOFFSETFROM:+0100
TZOFFSETTO:+0000
TZNAME:GMT
DTSTART:20201025T010000
END:STANDARD
BEGIN:DAYLIGHT
TZOFFSETFROM:+0000
TZOFFSETTO:+0100
TZNAME:BST
DTSTART:20210328T010000
END:DAYLIGHT
BEGIN:STANDARD
TZOFFSETFROM:+0100
TZOFFSETTO:+0000
TZNAME:GMT
DTSTART:20211031T010000
END:STANDARD
END:VTIMEZONE
BEGIN:VEVENT
DTSTART;VALUE=DATE:20201017
DTEND;VALUE=DATE:20201026
DTSTAMP:20260422T022919
CREATED:20190830T115849Z
LAST-MODIFIED:20190830T115849Z
UID:331756-1602892800-1603670399@aqualogistics.co.uk
SUMMARY:Majestic Mantas
DESCRIPTION:Itinerary: Majestic Mantas\nDates: 17th – 25th October 2020\nAboard: M/Y blue Voyager \nThe Vessel…\nOriginally sailing as a blue o two fleet vessel in the Red Sea\, M/Y blue Voyager was fully refurbished in 2017 ready for her move to the Maldives. M/Y blue Voyager is a 37 metre\, steel hulled vessel that boasts three spacious double and ten twin cabins. She features a separate outdoor dining area\, bar and sky lounge\, as well as a luxurious Jacuzzi. \nMore information
URL:https://aqualogistics.co.uk/event/majestic-mantas/
LOCATION:MY Blue Voyager
ATTACH;FMTTYPE=image/jpeg:https://aqualogistics.co.uk/wp-content/uploads/2018/07/Image-ImageEshotHeaderMalMajMantasCockatoo.jpg
ORGANIZER;CN="Mark":MAILTO:geoff@aqualogistics.co.uk
END:VEVENT
END:VCALENDAR