BEGIN:VCALENDAR
VERSION:2.0
PRODID:-//Aqualogistics - ECPv6.15.20//NONSGML v1.0//EN
CALSCALE:GREGORIAN
METHOD:PUBLISH
X-ORIGINAL-URL:https://aqualogistics.co.uk
X-WR-CALDESC:Events for Aqualogistics
REFRESH-INTERVAL;VALUE=DURATION:PT1H
X-Robots-Tag:noindex
X-PUBLISHED-TTL:PT1H
BEGIN:VTIMEZONE
TZID:Europe/London
BEGIN:DAYLIGHT
TZOFFSETFROM:+0000
TZOFFSETTO:+0100
TZNAME:BST
DTSTART:20190331T010000
END:DAYLIGHT
BEGIN:STANDARD
TZOFFSETFROM:+0100
TZOFFSETTO:+0000
TZNAME:GMT
DTSTART:20191027T010000
END:STANDARD
BEGIN:DAYLIGHT
TZOFFSETFROM:+0000
TZOFFSETTO:+0100
TZNAME:BST
DTSTART:20200329T010000
END:DAYLIGHT
BEGIN:STANDARD
TZOFFSETFROM:+0100
TZOFFSETTO:+0000
TZNAME:GMT
DTSTART:20201025T010000
END:STANDARD
BEGIN:DAYLIGHT
TZOFFSETFROM:+0000
TZOFFSETTO:+0100
TZNAME:BST
DTSTART:20210328T010000
END:DAYLIGHT
BEGIN:STANDARD
TZOFFSETFROM:+0100
TZOFFSETTO:+0000
TZNAME:GMT
DTSTART:20211031T010000
END:STANDARD
END:VTIMEZONE
BEGIN:VEVENT
DTSTART;VALUE=DATE:20200223
DTEND;VALUE=DATE:20200224
DTSTAMP:20260421T165936
CREATED:20191212T161752Z
LAST-MODIFIED:20191212T162025Z
UID:334345-1582416000-1582502399@aqualogistics.co.uk
SUMMARY:Perfect buoyancy
DESCRIPTION:DESCRIPTION\n\nDo you want to increase your buoyancy control\, minimize your breathing gas consumption\, or move effortlessly above the ocean floor? The SSI Perfect Buoyancy program teaches you the skills and techniques needed to maximize your dive experience\, increase your comfort in the water\, and get the most from your equipment. You will earn the SSI Perfect Buoyancy \ncourse includes 1 session in the pool \n1x classroom presentation \n1x day at capernwray \nSpecialty certification.https://youtu.be/kADfwwso7sg
URL:https://aqualogistics.co.uk/event/perfect/
LOCATION:Aqualogistics dive centre\, chester street\, stockport\, sk3 obr\, United Kingdom
ORGANIZER;CN="howard":MAILTO:geoff@aqualogistics.co.uk
END:VEVENT
END:VCALENDAR