BEGIN:VCALENDAR
VERSION:2.0
PRODID:-//Aqualogistics - ECPv6.15.20//NONSGML v1.0//EN
CALSCALE:GREGORIAN
METHOD:PUBLISH
X-WR-CALNAME:Aqualogistics
X-ORIGINAL-URL:https://aqualogistics.co.uk
X-WR-CALDESC:Events for Aqualogistics
REFRESH-INTERVAL;VALUE=DURATION:PT1H
X-Robots-Tag:noindex
X-PUBLISHED-TTL:PT1H
BEGIN:VTIMEZONE
TZID:Europe/London
BEGIN:DAYLIGHT
TZOFFSETFROM:+0000
TZOFFSETTO:+0100
TZNAME:BST
DTSTART:20180325T010000
END:DAYLIGHT
BEGIN:STANDARD
TZOFFSETFROM:+0100
TZOFFSETTO:+0000
TZNAME:GMT
DTSTART:20181028T010000
END:STANDARD
BEGIN:DAYLIGHT
TZOFFSETFROM:+0000
TZOFFSETTO:+0100
TZNAME:BST
DTSTART:20190331T010000
END:DAYLIGHT
BEGIN:STANDARD
TZOFFSETFROM:+0100
TZOFFSETTO:+0000
TZNAME:GMT
DTSTART:20191027T010000
END:STANDARD
BEGIN:DAYLIGHT
TZOFFSETFROM:+0000
TZOFFSETTO:+0100
TZNAME:BST
DTSTART:20200329T010000
END:DAYLIGHT
BEGIN:STANDARD
TZOFFSETFROM:+0100
TZOFFSETTO:+0000
TZNAME:GMT
DTSTART:20201025T010000
END:STANDARD
END:VTIMEZONE
BEGIN:VEVENT
DTSTART;TZID=Europe/London:20191125T200000
DTEND;TZID=Europe/London:20191125T213000
DTSTAMP:20260421T152843
CREATED:20191108T145314Z
LAST-MODIFIED:20191108T152618Z
UID:333442-1574712000-1574717400@aqualogistics.co.uk
SUMMARY:Trydive
DESCRIPTION:Home / Dive Training / Try Scuba Diving\n\n\n\n\n\n\n\n\n\n\nTRY SCUBA DIVING\nScuba Diving is much easier than you think and opens up the undersea world for you to explore. With an abundance of wrecks and marine life surrounding the UK\, you are in the perfect location to enjoy great diving. Whether you’re interested in taking up an new challenge\, looking for a new hobby\, or just want to make some like minded friends\, scuba diving offers a great experience. \nTo truly enjoy your first underwater scuba diving experience\, you need an instructor that you can trust. We work in association with Scuba Schools International (SSI)\, which is one of the largest and most trusted training agencies in the world today. Your SSI Dive Instructor will teach you everything you need to know and under their guidance\, you will learn the skills you need to enjoy diving. \n\n\n\n\n\n\n\n\n\n\n 
URL:https://aqualogistics.co.uk/event/trydive/
LOCATION:right robinson collage\, M18 8RL
ORGANIZER;CN="howard":MAILTO:geoff@aqualogistics.co.uk
END:VEVENT
END:VCALENDAR