BEGIN:VCALENDAR
VERSION:2.0
PRODID:-//Aqualogistics - ECPv6.15.20//NONSGML v1.0//EN
CALSCALE:GREGORIAN
METHOD:PUBLISH
X-WR-CALNAME:Aqualogistics
X-ORIGINAL-URL:https://aqualogistics.co.uk
X-WR-CALDESC:Events for Aqualogistics
REFRESH-INTERVAL;VALUE=DURATION:PT1H
X-Robots-Tag:noindex
X-PUBLISHED-TTL:PT1H
BEGIN:VTIMEZONE
TZID:Europe/London
BEGIN:DAYLIGHT
TZOFFSETFROM:+0000
TZOFFSETTO:+0100
TZNAME:BST
DTSTART:20180325T010000
END:DAYLIGHT
BEGIN:STANDARD
TZOFFSETFROM:+0100
TZOFFSETTO:+0000
TZNAME:GMT
DTSTART:20181028T010000
END:STANDARD
BEGIN:DAYLIGHT
TZOFFSETFROM:+0000
TZOFFSETTO:+0100
TZNAME:BST
DTSTART:20190331T010000
END:DAYLIGHT
BEGIN:STANDARD
TZOFFSETFROM:+0100
TZOFFSETTO:+0000
TZNAME:GMT
DTSTART:20191027T010000
END:STANDARD
BEGIN:DAYLIGHT
TZOFFSETFROM:+0000
TZOFFSETTO:+0100
TZNAME:BST
DTSTART:20200329T010000
END:DAYLIGHT
BEGIN:STANDARD
TZOFFSETFROM:+0100
TZOFFSETTO:+0000
TZNAME:GMT
DTSTART:20201025T010000
END:STANDARD
END:VTIMEZONE
BEGIN:VEVENT
DTSTART;TZID=Europe/London:20191021T200000
DTEND;TZID=Europe/London:20191021T213000
DTSTAMP:20260424T010212
CREATED:20191003T105836Z
LAST-MODIFIED:20191003T105836Z
UID:332591-1571688000-1571693400@aqualogistics.co.uk
SUMMARY:Discover Snorkelling
DESCRIPTION:Snorkelling is a great activity which all ages can enjoy and has lots of benefits. \nThis can provide a great experience  to the underwater kingdom and also helps with keeping you physically fit . \nThis can also unlock other opportunities such as underwater polo or photography. \nThe course helps you to understand different fining techniques and how to use a snorkel correctly and to control you breathing. \nCOURSE STRUCTURE \n1 POOL SESSION APPROXIMATELY (1.5 HOURS). \nKit hire is included for the session (All you need is your swimwear and a towel) \nPlease contact howard for more details on 0161 480 5745 or visit aqualogistics.co.uk  home page\,log into the SSI digital learning and fill in you details and get your free snorkelling introduction pack and more !!!!!!!!!
URL:https://aqualogistics.co.uk/event/discover-snorkelling/
LOCATION:right robinson collage\, M18 8RL
ORGANIZER;CN="howard":MAILTO:geoff@aqualogistics.co.uk
END:VEVENT
END:VCALENDAR